BEGIN:VCALENDAR
VERSION:2.0
PRODID:-//AXOLIFT - Smart and Safe alternatives to ladders - ECPv6.15.16//NONSGML v1.0//EN
CALSCALE:GREGORIAN
METHOD:PUBLISH
X-ORIGINAL-URL:https://axolift.com
X-WR-CALDESC:Events for AXOLIFT - Smart and Safe alternatives to ladders
REFRESH-INTERVAL;VALUE=DURATION:PT1H
X-Robots-Tag:noindex
X-PUBLISHED-TTL:PT1H
BEGIN:VTIMEZONE
TZID:Europe/Helsinki
BEGIN:DAYLIGHT
TZOFFSETFROM:+0200
TZOFFSETTO:+0300
TZNAME:EEST
DTSTART:20240331T010000
END:DAYLIGHT
BEGIN:STANDARD
TZOFFSETFROM:+0300
TZOFFSETTO:+0200
TZNAME:EET
DTSTART:20241027T010000
END:STANDARD
BEGIN:DAYLIGHT
TZOFFSETFROM:+0200
TZOFFSETTO:+0300
TZNAME:EEST
DTSTART:20250330T010000
END:DAYLIGHT
BEGIN:STANDARD
TZOFFSETFROM:+0300
TZOFFSETTO:+0200
TZNAME:EET
DTSTART:20251026T010000
END:STANDARD
BEGIN:DAYLIGHT
TZOFFSETFROM:+0200
TZOFFSETTO:+0300
TZNAME:EEST
DTSTART:20260329T010000
END:DAYLIGHT
BEGIN:STANDARD
TZOFFSETFROM:+0300
TZOFFSETTO:+0200
TZNAME:EET
DTSTART:20261025T010000
END:STANDARD
END:VTIMEZONE
BEGIN:VEVENT
DTSTART;TZID=Europe/Helsinki:20250304T080000
DTEND;TZID=Europe/Helsinki:20250306T170000
DTSTAMP:20260422T233849
CREATED:20241203T113843Z
LAST-MODIFIED:20250121T085839Z
UID:15379-1741075200-1741280400@axolift.com
SUMMARY:Wood Tech 2025 - STAND C1.50B
DESCRIPTION:Axolift Shines at the 4th Edition of Wood Tech Warsaw Show \n     \nWe are thrilled to announce that Axolift\, made a significant impact at the 4th edition of the Wood Tech Warsaw Show\, held from March 4-6\, 2025. This event\, hosted at Ptak Warsaw Expo\, showcased the latest innovations in woodworking\, furniture production\, and specialized software for the industry. \nVisitors to our booth STAND C1.50B had the opportunity to see our full range of products\, designed to enhance safety and efficiency in various work environments. The highlight was our latest low-level access platforms\, which received an enthusiastic response from attendees. \nAxolift Products\nAxolift P300T | Low-level access platformAxolift Elift 3.0 | Low-level access platformAxolift P300 | Low-level access platformAxolift Manulift 200/4 | Low level access platformAxolift Manulift 200 | Low-level platform\nKey Features of Axolift Products\n\nSafety: Designed to prevent falls from low heights up to 5 meters.\nEco-Friendly: All platforms are either fully mechanical or electric\, ensuring zero emissions.\nApplications: Ideal for routine and extraordinary maintenance in factories\, workshops\, laboratories\, offices\, malls\, and for general repairs or renovation operations such as cleaning\, painting\, and setting up large areas.\nIn-House Production: All platforms are manufactured at the Gromet Srl production site in Northern Italy (Veneto)\, ensuring high quality and reliability.\n\nSTAND C1.50B \n\n 
URL:https://axolift.com/event/wood-tech-2025/
LOCATION:Ptak Warsaw Expo\, Al. Katowicka 62\, Nadarzyn\, 05-830\, Poland
CATEGORIES:Fairs
ATTACH;FMTTYPE=image/png:https://axolift.com/wp-content/uploads/2024/12/WOODTECH_logo.png
END:VEVENT
BEGIN:VEVENT
DTSTART;TZID=Europe/Helsinki:20250305T080000
DTEND;TZID=Europe/Helsinki:20250307T170000
DTSTAMP:20260422T233849
CREATED:20241126T154645Z
LAST-MODIFIED:20250121T153944Z
UID:15360-1741161600-1741366800@axolift.com
SUMMARY:World Sustainable Energy Days 2025
DESCRIPTION:Axolift will be present at the World Sustainable Energy Days! 2025\nWe are excited to announce that Axolift will participate in the World Sustainable Energy Days\, one of the most important global events dedicated to energy transition and climate neutrality. \nAxolift is a leader in the production of low-level access platforms\, offering safe and eco-friendly solutions for working at height. Our platforms\, either fully manual or electric\, are designed to ensure maximum safety and ease of use while minimizing environmental impact. \nAxolift products\nAxolift P300T | Low-level access platformAxolift Elift 3.0 | Low-level access platformAxolift P300 | Low-level access platformAxolift Manulift 200/4 | Low level access platformAxolift Manulift 200 | Low-level platform\nWhat are the World Sustainable Energy Days?  The World Sustainable Energy Days (WSED) is an annual international conference held in Wels\, Austria\, bringing together over 650 experts from more than 60 countries. The event focuses on policies\, programs\, and innovations to achieve climate neutrality\, promoting energy efficiency and the use of renewable energy. \nJoin us to discover the latest advancements in sustainable energy and see how Axolift can contribute to a greener and safer future! \n\n Save the Date: March 5 – 7\, 2025\n Where: Wels\, Austria\n\nWe look forward to seeing you there! \n#Axolift #WSED2025 #SustainableEnergy #EnergyTransition #AccessPlatform
URL:https://axolift.com/event/world-sustainable-energy-days-2025/
LOCATION:Wels / Austria\, Pollheimerstraße\, 1\, Wels\, 4600\, Austria
CATEGORIES:Fairs
ATTACH;FMTTYPE=image/png:https://axolift.com/wp-content/uploads/2024/11/wsed2025_image.png
ORGANIZER;CN="O%C3%96 Energiesparverband":MAILTO:office(at)esv.or.at
END:VEVENT
END:VCALENDAR